BEGIN:VCALENDAR
VERSION:2.0
PRODID:icalendar-ruby
CALSCALE:GREGORIAN
METHOD:PUBLISH
BEGIN:VEVENT
DTSTAMP:20260423T102638Z
UID:250-843045@standrewsfreechurch.co.uk
DTSTART:20260512T130000Z
DTEND:20260512T143000Z
CLASS:PUBLIC
CREATED:20260403T104918
DESCRIPTION:This ministry is aimed at encouraging some of the ‘more exper
 ienced’ saints in our church family. Join us for tea\, cake\, encouragem
 ent and prayer at a local home around once a fortnight at 2pm on a Tuesday
  afternoon at 10 Doocot Road. Send us an email at church@standrewsfreechur
 ch.co.uk if you're interested in finding out more.
LAST-MODIFIED:20260403T104918
LOCATION:
SUMMARY:Evergreens
URL;VALUE=URI:https://www.standrewsfreechurch.co.uk/events/evergreens--250/
 2026-05-12
ATTACH;FILENAME=Evergreens-%283%29.jpg;FMTTYPE=image/jpeg:https://dq5pwpg1q
 8ru0.cloudfront.net/2026/01/07/12/43/21/06ed5f67-2422-41f2-92c1-79e9aed1df
 80/Evergreens-%25283%2529.jpg
END:VEVENT
END:VCALENDAR
