BEGIN:VCALENDAR
VERSION:2.0
PRODID:icalendar-ruby
CALSCALE:GREGORIAN
METHOD:PUBLISH
BEGIN:VEVENT
DTSTAMP:20260423T083730Z
UID:275-853579@standrewsfreechurch.co.uk
DTSTART:20260419T120000Z
DTEND:20260419T140000Z
CLASS:PUBLIC
CREATED:20260408T110931
DESCRIPTION:After the 11:30 service on Sunday 19th April on the topic of Is
  my view of church too small?
LAST-MODIFIED:20260408T110931
LOCATION:Holy Trinity Church Halls\, Queen's Terrace\, St Andrews\, KY16 9Q
 F
SUMMARY:Student Lunch
URL;VALUE=URI:https://www.standrewsfreechurch.co.uk/events/student-lunch--2
 75/2026-04-19
ATTACH;FILENAME=church-too-small.png;FMTTYPE=image/png:https://dq5pwpg1q8ru
 0.cloudfront.net/2026/04/08/10/09/31/212e4f76-9a25-4b7e-a62f-8f996eb0fc1c/
 church-too-small.png
END:VEVENT
END:VCALENDAR
